BEGIN:VCALENDAR
VERSION:2.0
PRODID:-//Indiana Heritage Arts - ECPv6.15.11//NONSGML v1.0//EN
CALSCALE:GREGORIAN
METHOD:PUBLISH
X-WR-CALNAME:Indiana Heritage Arts
X-ORIGINAL-URL:https://indianaheritagearts.org
X-WR-CALDESC:Events for Indiana Heritage Arts
REFRESH-INTERVAL;VALUE=DURATION:PT1H
X-Robots-Tag:noindex
X-PUBLISHED-TTL:PT1H
BEGIN:VTIMEZONE
TZID:America/Indiana/Indianapolis
BEGIN:DAYLIGHT
TZOFFSETFROM:-0500
TZOFFSETTO:-0400
TZNAME:EDT
DTSTART:20220313T070000
END:DAYLIGHT
BEGIN:STANDARD
TZOFFSETFROM:-0400
TZOFFSETTO:-0500
TZNAME:EST
DTSTART:20221106T060000
END:STANDARD
BEGIN:DAYLIGHT
TZOFFSETFROM:-0500
TZOFFSETTO:-0400
TZNAME:EDT
DTSTART:20230312T070000
END:DAYLIGHT
BEGIN:STANDARD
TZOFFSETFROM:-0400
TZOFFSETTO:-0500
TZNAME:EST
DTSTART:20231105T060000
END:STANDARD
BEGIN:DAYLIGHT
TZOFFSETFROM:-0500
TZOFFSETTO:-0400
TZNAME:EDT
DTSTART:20240310T070000
END:DAYLIGHT
BEGIN:STANDARD
TZOFFSETFROM:-0400
TZOFFSETTO:-0500
TZNAME:EST
DTSTART:20241103T060000
END:STANDARD
END:VTIMEZONE
BEGIN:VEVENT
DTSTART;TZID=America/Indiana/Indianapolis:20230305T000000
DTEND;TZID=America/Indiana/Indianapolis:20230505T235959
DTSTAMP:20260424T095141
CREATED:20221231T154850Z
LAST-MODIFIED:20221231T161251Z
UID:1336-1677974400-1683331199@indianaheritagearts.org
SUMMARY:2023 Call for Entry Opens
DESCRIPTION:All Indiana artists are invited to enter the 44th Annual IHA Exhibition & Sale.
URL:https://indianaheritagearts.org/event/2023-cfe/
CATEGORIES:2023 Exhibition,Artists
END:VEVENT
BEGIN:VEVENT
DTSTART;TZID=America/Indiana/Indianapolis:20230505T000000
DTEND;TZID=America/Indiana/Indianapolis:20230505T235959
DTSTAMP:20260424T095141
CREATED:20221231T160531Z
LAST-MODIFIED:20221231T160532Z
UID:1349-1683244800-1683331199@indianaheritagearts.org
SUMMARY:2023 Call For Entry Closes
DESCRIPTION:All artist Call for Entry\, Donor / Sponsor and Catalog Advertiser submissions for the 45th Annual Exhibition are due.
URL:https://indianaheritagearts.org/event/2023-call-for-entry-closes/
CATEGORIES:2023 Exhibition,Artists
END:VEVENT
BEGIN:VEVENT
DTSTART;TZID=America/Indiana/Indianapolis:20230513T120000
DTEND;TZID=America/Indiana/Indianapolis:20230513T160000
DTSTAMP:20260424T095141
CREATED:20221231T155121Z
LAST-MODIFIED:20221231T155828Z
UID:1339-1683979200-1683993600@indianaheritagearts.org
SUMMARY:Artist Check-in Day 1
DESCRIPTION:Entered artists can deliver their paintings to the Stevens Art Studio in the Brown County Art Gallery from noon – 4 pm\, no appointment needed.
URL:https://indianaheritagearts.org/event/2023-checkin-day-1/
LOCATION:Brown County Art Gallery\, One Artist Drive\, Nashville\, IN\, 47448\, United States
CATEGORIES:2023 Exhibition,Artists
END:VEVENT
BEGIN:VEVENT
DTSTART;TZID=America/Indiana/Indianapolis:20230517T120000
DTEND;TZID=America/Indiana/Indianapolis:20230517T160000
DTSTAMP:20260424T095141
CREATED:20221231T155335Z
LAST-MODIFIED:20221231T155928Z
UID:1341-1684324800-1684339200@indianaheritagearts.org
SUMMARY:Artist Check-in Day 2
DESCRIPTION:Entered artists can deliver their paintings to the Stevens Art Studio in the Brown County Art Gallery from noon – 4 pm\, no appointment needed.
URL:https://indianaheritagearts.org/event/2023-checkin-day-2/
LOCATION:Brown County Art Gallery\, One Artist Drive\, Nashville\, IN\, 47448\, United States
CATEGORIES:2023 Exhibition,Artists
END:VEVENT
BEGIN:VEVENT
DTSTART;TZID=America/Indiana/Indianapolis:20230521T120000
DTEND;TZID=America/Indiana/Indianapolis:20230521T160000
DTSTAMP:20260424T095141
CREATED:20221231T155709Z
LAST-MODIFIED:20221231T155907Z
UID:1344-1684670400-1684684800@indianaheritagearts.org
SUMMARY:Final Artist Check-in Day
DESCRIPTION:Entered artists can deliver their paintings to the Stevens Art Studio in the Brown County Art Gallery from noon – 4 pm\, no appointment needed.
URL:https://indianaheritagearts.org/event/2023-checkin-day-3/
LOCATION:Brown County Art Gallery\, One Artist Drive\, Nashville\, IN\, 47448\, United States
CATEGORIES:2023 Exhibition,Artists
END:VEVENT
BEGIN:VEVENT
DTSTART;TZID=America/Indiana/Indianapolis:20230522T100000
DTEND;TZID=America/Indiana/Indianapolis:20230522T170000
DTSTAMP:20260424T095141
CREATED:20221231T160809Z
LAST-MODIFIED:20221231T161157Z
UID:1351-1684749600-1684774800@indianaheritagearts.org
SUMMARY:45th Annual Exhibition Judging Day
DESCRIPTION:Judging for the 45th Annual Exhibition commences. Accepted entrants will be announced by Wednesday\, May 24.
URL:https://indianaheritagearts.org/event/45th-annual-exhibition-judging-day/
LOCATION:Brown County Art Gallery\, One Artist Drive\, Nashville\, IN\, 47448\, United States
CATEGORIES:2023 Exhibition,Artists
END:VEVENT
END:VCALENDAR