BEGIN:VCALENDAR
VERSION:2.0
PRODID:-//Indiana Heritage Arts - ECPv6.15.11//NONSGML v1.0//EN
CALSCALE:GREGORIAN
METHOD:PUBLISH
X-WR-CALNAME:Indiana Heritage Arts
X-ORIGINAL-URL:https://indianaheritagearts.org
X-WR-CALDESC:Events for Indiana Heritage Arts
REFRESH-INTERVAL;VALUE=DURATION:PT1H
X-Robots-Tag:noindex
X-PUBLISHED-TTL:PT1H
BEGIN:VTIMEZONE
TZID:America/Indiana/Indianapolis
BEGIN:DAYLIGHT
TZOFFSETFROM:-0500
TZOFFSETTO:-0400
TZNAME:EDT
DTSTART:20230312T070000
END:DAYLIGHT
BEGIN:STANDARD
TZOFFSETFROM:-0400
TZOFFSETTO:-0500
TZNAME:EST
DTSTART:20231105T060000
END:STANDARD
BEGIN:DAYLIGHT
TZOFFSETFROM:-0500
TZOFFSETTO:-0400
TZNAME:EDT
DTSTART:20240310T070000
END:DAYLIGHT
BEGIN:STANDARD
TZOFFSETFROM:-0400
TZOFFSETTO:-0500
TZNAME:EST
DTSTART:20241103T060000
END:STANDARD
BEGIN:DAYLIGHT
TZOFFSETFROM:-0500
TZOFFSETTO:-0400
TZNAME:EDT
DTSTART:20250309T070000
END:DAYLIGHT
BEGIN:STANDARD
TZOFFSETFROM:-0400
TZOFFSETTO:-0500
TZNAME:EST
DTSTART:20251102T060000
END:STANDARD
END:VTIMEZONE
BEGIN:VEVENT
DTSTART;TZID=America/Indiana/Indianapolis:20240505T080000
DTEND;TZID=America/Indiana/Indianapolis:20240505T170000
DTSTAMP:20260423T142234
CREATED:20240129T145232Z
LAST-MODIFIED:20260203T191749Z
UID:1620-1714896000-1714928400@indianaheritagearts.org
SUMMARY:2024 Call for Entry Closes
DESCRIPTION:All artist Call for Entry\, Donor / Sponsor\, and Catalog Advertiser submissions for the 46th Annual Exhibition are due.
URL:https://indianaheritagearts.org/event/2024-call-for-entry-closes/
CATEGORIES:2024 Exhibition,Artists
END:VEVENT
BEGIN:VEVENT
DTSTART;TZID=America/Indiana/Indianapolis:20240511T100000
DTEND;TZID=America/Indiana/Indianapolis:20240511T160000
DTSTAMP:20260423T142234
CREATED:20240307T123228Z
LAST-MODIFIED:20240307T123229Z
UID:1691-1715421600-1715443200@indianaheritagearts.org
SUMMARY:Artist Check-in Day 1
DESCRIPTION:Entered artists can deliver their paintings to the Stevens Art Studio in the Brown County Art Gallery from 10 am – 4 pm\, no appointment needed.
URL:https://indianaheritagearts.org/event/artist-check-in-day-1/
CATEGORIES:2024 Exhibition,Artists
END:VEVENT
BEGIN:VEVENT
DTSTART;TZID=America/Indiana/Indianapolis:20240514T180000
DTEND;TZID=America/Indiana/Indianapolis:20240514T200000
DTSTAMP:20260423T142234
CREATED:20240507T195004Z
LAST-MODIFIED:20240507T195136Z
UID:1739-1715709600-1715716800@indianaheritagearts.org
SUMMARY:Special Screening of the Hoosier Masters
DESCRIPTION:Indiana Heritage Arts will be hosting a special screening of “Hoosier Masters\,” the IHA Permanent Collection video at the Brown County Public Library on Tuesday\, May 14 at 6 pm.Hear the inspirational stories of three IHA artists whose works are represented in the IHA Permanent Collection. Learn about the 46-year history of IHA\, which has evolved into one of Indiana’s most prestigious art organizations. This will be a special evening for all art lovers! \n\n\n\nGenerous hors d’oeuvres and wine will be served.RESERVATIONS REQUIRED. Seating is limited.Register by calling the Brown County Art Gallery at 812.988.4609Thanks to the Brown County Community Foundation and the Indiana Arts Commission for their generous support.
URL:https://indianaheritagearts.org/event/special-screening-of-the-hoosier-masters/
LOCATION:Brown County Public Library\, 205 Locust Lane\, Nashville\, IN\, 47448
CATEGORIES:Artists,Events
ATTACH;FMTTYPE=image/jpeg:https://indianaheritagearts.org/wp-content/uploads/2024/05/IHA-Library.jpg
END:VEVENT
BEGIN:VEVENT
DTSTART;TZID=America/Indiana/Indianapolis:20240515T100000
DTEND;TZID=America/Indiana/Indianapolis:20240515T160000
DTSTAMP:20260423T142234
CREATED:20240307T123351Z
LAST-MODIFIED:20240307T123352Z
UID:1693-1715767200-1715788800@indianaheritagearts.org
SUMMARY:Artist Check-in Day 2
DESCRIPTION:Entered artists can deliver their paintings to the Stevens Art Studio in the Brown County Art Gallery from 10 am – 4 pm\, no appointment needed.
URL:https://indianaheritagearts.org/event/artist-check-in-day-2/
CATEGORIES:2024 Exhibition,Artists
END:VEVENT
BEGIN:VEVENT
DTSTART;TZID=America/Indiana/Indianapolis:20240519T120000
DTEND;TZID=America/Indiana/Indianapolis:20240519T160000
DTSTAMP:20260423T142234
CREATED:20240307T123519Z
LAST-MODIFIED:20240307T123520Z
UID:1695-1716120000-1716134400@indianaheritagearts.org
SUMMARY:Final Artist Check-in Day
DESCRIPTION:Entered artists can deliver their paintings to the Stevens Art Studio in the Brown County Art Gallery from noon – 4 pm\, no appointment needed.
URL:https://indianaheritagearts.org/event/final-artist-check-in-day/
CATEGORIES:2024 Exhibition,Artists
END:VEVENT
END:VCALENDAR