BEGIN:VCALENDAR
VERSION:2.0
PRODID:-//Indiana Heritage Arts - ECPv6.15.11//NONSGML v1.0//EN
CALSCALE:GREGORIAN
METHOD:PUBLISH
X-ORIGINAL-URL:https://indianaheritagearts.org
X-WR-CALDESC:Events for Indiana Heritage Arts
REFRESH-INTERVAL;VALUE=DURATION:PT1H
X-Robots-Tag:noindex
X-PUBLISHED-TTL:PT1H
BEGIN:VTIMEZONE
TZID:America/Indiana/Indianapolis
BEGIN:DAYLIGHT
TZOFFSETFROM:-0500
TZOFFSETTO:-0400
TZNAME:EDT
DTSTART:20240310T070000
END:DAYLIGHT
BEGIN:STANDARD
TZOFFSETFROM:-0400
TZOFFSETTO:-0500
TZNAME:EST
DTSTART:20241103T060000
END:STANDARD
BEGIN:DAYLIGHT
TZOFFSETFROM:-0500
TZOFFSETTO:-0400
TZNAME:EDT
DTSTART:20250309T070000
END:DAYLIGHT
BEGIN:STANDARD
TZOFFSETFROM:-0400
TZOFFSETTO:-0500
TZNAME:EST
DTSTART:20251102T060000
END:STANDARD
BEGIN:DAYLIGHT
TZOFFSETFROM:-0500
TZOFFSETTO:-0400
TZNAME:EDT
DTSTART:20260308T070000
END:DAYLIGHT
BEGIN:STANDARD
TZOFFSETFROM:-0400
TZOFFSETTO:-0500
TZNAME:EST
DTSTART:20261101T060000
END:STANDARD
END:VTIMEZONE
BEGIN:VEVENT
DTSTART;TZID=America/Indiana/Indianapolis:20250712T000000
DTEND;TZID=America/Indiana/Indianapolis:20250712T235959
DTSTAMP:20260422T141603
CREATED:20250324T150435Z
LAST-MODIFIED:20250324T150520Z
UID:2422-1752278400-1752364799@indianaheritagearts.org
SUMMARY:47th Annual Exhibition & Sale final day
DESCRIPTION:
URL:https://indianaheritagearts.org/event/47th-annual-exhibition-and-sale-final-day/
CATEGORIES:2025 Exhibition,Artists
END:VEVENT
BEGIN:VEVENT
DTSTART;TZID=America/Indiana/Indianapolis:20250713T120000
DTEND;TZID=America/Indiana/Indianapolis:20250713T160000
DTSTAMP:20260422T141603
CREATED:20250324T150601Z
LAST-MODIFIED:20250324T150601Z
UID:2425-1752408000-1752422400@indianaheritagearts.org
SUMMARY:Pick up all unsold/rejected artwork
DESCRIPTION:
URL:https://indianaheritagearts.org/event/pick-up-all-unsold-rejected-artwork/
CATEGORIES:2025 Exhibition,Artists
END:VEVENT
END:VCALENDAR