BEGIN:VCALENDAR
VERSION:2.0
PRODID:-//Indiana Heritage Arts - ECPv6.15.11//NONSGML v1.0//EN
CALSCALE:GREGORIAN
METHOD:PUBLISH
X-ORIGINAL-URL:https://indianaheritagearts.org
X-WR-CALDESC:Events for Indiana Heritage Arts
REFRESH-INTERVAL;VALUE=DURATION:PT1H
X-Robots-Tag:noindex
X-PUBLISHED-TTL:PT1H
BEGIN:VTIMEZONE
TZID:America/Indiana/Indianapolis
BEGIN:DAYLIGHT
TZOFFSETFROM:-0500
TZOFFSETTO:-0400
TZNAME:EDT
DTSTART:20210314T070000
END:DAYLIGHT
BEGIN:STANDARD
TZOFFSETFROM:-0400
TZOFFSETTO:-0500
TZNAME:EST
DTSTART:20211107T060000
END:STANDARD
BEGIN:DAYLIGHT
TZOFFSETFROM:-0500
TZOFFSETTO:-0400
TZNAME:EDT
DTSTART:20220313T070000
END:DAYLIGHT
BEGIN:STANDARD
TZOFFSETFROM:-0400
TZOFFSETTO:-0500
TZNAME:EST
DTSTART:20221106T060000
END:STANDARD
BEGIN:DAYLIGHT
TZOFFSETFROM:-0500
TZOFFSETTO:-0400
TZNAME:EDT
DTSTART:20230312T070000
END:DAYLIGHT
BEGIN:STANDARD
TZOFFSETFROM:-0400
TZOFFSETTO:-0500
TZNAME:EST
DTSTART:20231105T060000
END:STANDARD
END:VTIMEZONE
BEGIN:VEVENT
DTSTART;VALUE=DATE:20220610
DTEND;VALUE=DATE:20220611
DTSTAMP:20260425T061812
CREATED:20220217T120512Z
LAST-MODIFIED:20220217T121013Z
UID:468-1654819200-1654905599@indianaheritagearts.org
SUMMARY:Award Winners Announced
DESCRIPTION:Award Winners announced on social media and posted on website
URL:https://indianaheritagearts.org/event/award-winners-announced/
CATEGORIES:2022 Exhibition,Artists
END:VEVENT
BEGIN:VEVENT
DTSTART;TZID=America/Indiana/Indianapolis:20220610T173000
DTEND;TZID=America/Indiana/Indianapolis:20220610T200000
DTSTAMP:20260425T061812
CREATED:20220217T120814Z
LAST-MODIFIED:20260203T193148Z
UID:470-1654882200-1654891200@indianaheritagearts.org
SUMMARY:Opening Reception
DESCRIPTION:Opening reception for 44th Annual Exhibition and awards presentation. Guests can enjoy wine\, soft drinks and hearty appetizers.\n\nReservations required · $20 per person\nArtists\, sponsors and donors\, plus a guest\, may attend for free\nCall  812.988.4609 to reserve\n\nThis is a partner event with the Painting Selma’s Garden event. Book an event package for just $60. Package includes admission to IHA Exhibition Opening Reception\, admission to Painting Selma’s Garden reception\, one IHA non-artist membership and two free 2022 passes to T.C. Steele State Historic Site.
URL:https://indianaheritagearts.org/event/opening-reception/
LOCATION:Brown County Art Gallery\, One Artist Drive\, Nashville\, IN\, 47448\, United States
CATEGORIES:2022 Exhibition,Artists,Events
ATTACH;FMTTYPE=image/jpeg:https://indianaheritagearts.org/wp-content/uploads/2022/02/0099-2022-Exhibition-graphics-1920x1080-2.jpg
END:VEVENT
END:VCALENDAR