BEGIN:VCALENDAR
VERSION:2.0
PRODID:-//Indiana Heritage Arts - ECPv6.15.11//NONSGML v1.0//EN
CALSCALE:GREGORIAN
METHOD:PUBLISH
X-WR-CALNAME:Indiana Heritage Arts
X-ORIGINAL-URL:https://indianaheritagearts.org
X-WR-CALDESC:Events for Indiana Heritage Arts
REFRESH-INTERVAL;VALUE=DURATION:PT1H
X-Robots-Tag:noindex
X-PUBLISHED-TTL:PT1H
BEGIN:VTIMEZONE
TZID:America/Indiana/Indianapolis
BEGIN:DAYLIGHT
TZOFFSETFROM:-0500
TZOFFSETTO:-0400
TZNAME:EDT
DTSTART:20220313T070000
END:DAYLIGHT
BEGIN:STANDARD
TZOFFSETFROM:-0400
TZOFFSETTO:-0500
TZNAME:EST
DTSTART:20221106T060000
END:STANDARD
BEGIN:DAYLIGHT
TZOFFSETFROM:-0500
TZOFFSETTO:-0400
TZNAME:EDT
DTSTART:20230312T070000
END:DAYLIGHT
BEGIN:STANDARD
TZOFFSETFROM:-0400
TZOFFSETTO:-0500
TZNAME:EST
DTSTART:20231105T060000
END:STANDARD
BEGIN:DAYLIGHT
TZOFFSETFROM:-0500
TZOFFSETTO:-0400
TZNAME:EDT
DTSTART:20240310T070000
END:DAYLIGHT
BEGIN:STANDARD
TZOFFSETFROM:-0400
TZOFFSETTO:-0500
TZNAME:EST
DTSTART:20241103T060000
END:STANDARD
END:VTIMEZONE
BEGIN:VEVENT
DTSTART;TZID=America/Indiana/Indianapolis:20230522T100000
DTEND;TZID=America/Indiana/Indianapolis:20230522T170000
DTSTAMP:20260424T113318
CREATED:20221231T160809Z
LAST-MODIFIED:20221231T161157Z
UID:1351-1684749600-1684774800@indianaheritagearts.org
SUMMARY:45th Annual Exhibition Judging Day
DESCRIPTION:Judging for the 45th Annual Exhibition commences. Accepted entrants will be announced by Wednesday\, May 24.
URL:https://indianaheritagearts.org/event/45th-annual-exhibition-judging-day/
LOCATION:Brown County Art Gallery\, One Artist Drive\, Nashville\, IN\, 47448\, United States
CATEGORIES:2023 Exhibition,Artists
END:VEVENT
END:VCALENDAR