BEGIN:VCALENDAR
VERSION:2.0
PRODID:-//Indiana Heritage Arts - ECPv6.15.11//NONSGML v1.0//EN
CALSCALE:GREGORIAN
METHOD:PUBLISH
X-WR-CALNAME:Indiana Heritage Arts
X-ORIGINAL-URL:https://indianaheritagearts.org
X-WR-CALDESC:Events for Indiana Heritage Arts
REFRESH-INTERVAL;VALUE=DURATION:PT1H
X-Robots-Tag:noindex
X-PUBLISHED-TTL:PT1H
BEGIN:VTIMEZONE
TZID:America/Indiana/Indianapolis
BEGIN:DAYLIGHT
TZOFFSETFROM:-0500
TZOFFSETTO:-0400
TZNAME:EDT
DTSTART:20220313T070000
END:DAYLIGHT
BEGIN:STANDARD
TZOFFSETFROM:-0400
TZOFFSETTO:-0500
TZNAME:EST
DTSTART:20221106T060000
END:STANDARD
BEGIN:DAYLIGHT
TZOFFSETFROM:-0500
TZOFFSETTO:-0400
TZNAME:EDT
DTSTART:20230312T070000
END:DAYLIGHT
BEGIN:STANDARD
TZOFFSETFROM:-0400
TZOFFSETTO:-0500
TZNAME:EST
DTSTART:20231105T060000
END:STANDARD
BEGIN:DAYLIGHT
TZOFFSETFROM:-0500
TZOFFSETTO:-0400
TZNAME:EDT
DTSTART:20240310T070000
END:DAYLIGHT
BEGIN:STANDARD
TZOFFSETFROM:-0400
TZOFFSETTO:-0500
TZNAME:EST
DTSTART:20241103T060000
END:STANDARD
BEGIN:DAYLIGHT
TZOFFSETFROM:-0500
TZOFFSETTO:-0400
TZNAME:EDT
DTSTART:20250309T070000
END:DAYLIGHT
BEGIN:STANDARD
TZOFFSETFROM:-0400
TZOFFSETTO:-0500
TZNAME:EST
DTSTART:20251102T060000
END:STANDARD
BEGIN:DAYLIGHT
TZOFFSETFROM:-0500
TZOFFSETTO:-0400
TZNAME:EDT
DTSTART:20260308T070000
END:DAYLIGHT
BEGIN:STANDARD
TZOFFSETFROM:-0400
TZOFFSETTO:-0500
TZNAME:EST
DTSTART:20261101T060000
END:STANDARD
BEGIN:DAYLIGHT
TZOFFSETFROM:-0500
TZOFFSETTO:-0400
TZNAME:EDT
DTSTART:20270314T070000
END:DAYLIGHT
BEGIN:STANDARD
TZOFFSETFROM:-0400
TZOFFSETTO:-0500
TZNAME:EST
DTSTART:20271107T060000
END:STANDARD
END:VTIMEZONE
BEGIN:VEVENT
DTSTART;TZID=America/Indiana/Indianapolis:20260124T000000
DTEND;TZID=America/Indiana/Indianapolis:20260124T235959
DTSTAMP:20260420T130501
CREATED:20260112T160511Z
LAST-MODIFIED:20260112T161008Z
UID:2759-1769212800-1769299199@indianaheritagearts.org
SUMMARY:Indiana Heritage Arts Annual Meeting
DESCRIPTION:Our annual meeting will be held on Saturday\, January 24 beginning at 10:00am via Zoom. \n\n\n\nAll IHA Members are welcome to sign on and attend. \n\n\n\nZOOM Link: https://us06web.zoom.us/j/88586772429  \n\n\n\nMeeting ID:  885 8677 2429 \n\n\n\nA regular board of directors meeting will follow.
URL:https://indianaheritagearts.org/event/2026-annual-meeting/
LOCATION:IN
ATTACH;FMTTYPE=image/webp:https://indianaheritagearts.org/wp-content/uploads/2026/01/IHA-Annual-Meeting-Event.webp
END:VEVENT
BEGIN:VEVENT
DTSTART;TZID=America/Indiana/Indianapolis:20250808T000000
DTEND;TZID=America/Indiana/Indianapolis:20250809T235959
DTSTAMP:20260420T130501
CREATED:20250728T133438Z
LAST-MODIFIED:20250728T133949Z
UID:2671-1754611200-1754783999@indianaheritagearts.org
SUMMARY:West Baden Springs Hoosier Masters Paint Out
DESCRIPTION:Artists invited to paint and sell. Registration is free and there is no commission. \n\n\n\nA reception will be held Saturday \, August 9 in the Rotunda from 2-4 pm. Artists may bring 3 additional paintings to sell in addition go what they paint during the event. \n\n\n\nCall the Brown County Art Gallery to register. (812) 988-4609. Sponsored by Indiana Heritage Arts
URL:https://indianaheritagearts.org/event/west-baden-springs-hoosier-masters-paint-out/
LOCATION:West Baden Springs Hotel\, 8538 W Baden Avenue\, West Baden Springs\, IN\, 47469\, United States
CATEGORIES:Events
ATTACH;FMTTYPE=image/webp:https://indianaheritagearts.org/wp-content/uploads/2025/07/West-Baden-Paint-Out.webp
END:VEVENT
BEGIN:VEVENT
DTSTART;TZID=America/Indiana/Indianapolis:20250713T120000
DTEND;TZID=America/Indiana/Indianapolis:20250713T160000
DTSTAMP:20260420T130501
CREATED:20250324T150601Z
LAST-MODIFIED:20250324T150601Z
UID:2425-1752408000-1752422400@indianaheritagearts.org
SUMMARY:Pick up all unsold/rejected artwork
DESCRIPTION:
URL:https://indianaheritagearts.org/event/pick-up-all-unsold-rejected-artwork/
LOCATION:IN
CATEGORIES:2025 Exhibition,Artists
END:VEVENT
BEGIN:VEVENT
DTSTART;TZID=America/Indiana/Indianapolis:20250712T000000
DTEND;TZID=America/Indiana/Indianapolis:20250712T235959
DTSTAMP:20260420T130501
CREATED:20250324T150435Z
LAST-MODIFIED:20250324T150520Z
UID:2422-1752278400-1752364799@indianaheritagearts.org
SUMMARY:47th Annual Exhibition & Sale final day
DESCRIPTION:
URL:https://indianaheritagearts.org/event/47th-annual-exhibition-and-sale-final-day/
LOCATION:IN
CATEGORIES:2025 Exhibition,Artists
END:VEVENT
BEGIN:VEVENT
DTSTART;TZID=America/Indiana/Indianapolis:20250614T100000
DTEND;TZID=America/Indiana/Indianapolis:20250614T200000
DTSTAMP:20260420T130501
CREATED:20250218T142914Z
LAST-MODIFIED:20250416T194335Z
UID:2336-1749895200-1749931200@indianaheritagearts.org
SUMMARY:Painting Selma’s Garden
DESCRIPTION:10am – 5pm \n\n\n\nReception 5:30-8pm tours\, food and wine \n\n\n\n\n\nGet your tickets here: www.indianamuseum.org/programs/painting-selmas-garden-2
URL:https://indianaheritagearts.org/event/painting-selmas-garden-4/
LOCATION:T.C. Steele State Historic Site\, 4220 T C Steele Rd\, Nashville\, Indiana\, 47448\, United States
CATEGORIES:Events
END:VEVENT
BEGIN:VEVENT
DTSTART;TZID=America/Indiana/Indianapolis:20250607T000000
DTEND;TZID=America/Indiana/Indianapolis:20250607T235959
DTSTAMP:20260420T130501
CREATED:20250218T142518Z
LAST-MODIFIED:20250219T135417Z
UID:2334-1749254400-1749340799@indianaheritagearts.org
SUMMARY:47th Annual Exhibition & Sale opens to the public
DESCRIPTION:Free admission
URL:https://indianaheritagearts.org/event/47th-annual-exhibition-sale-opens-to-the-public/
LOCATION:IN
CATEGORIES:2025 Exhibition,Artists,Events
END:VEVENT
BEGIN:VEVENT
DTSTART;TZID=America/Indiana/Indianapolis:20250606T173000
DTEND;TZID=America/Indiana/Indianapolis:20250606T173000
DTSTAMP:20260420T130501
CREATED:20250218T142427Z
LAST-MODIFIED:20250219T135300Z
UID:2332-1749231000-1749231000@indianaheritagearts.org
SUMMARY:Opening reception for the 47th Annual Exhibition & Sale
DESCRIPTION:Doors open 5:30 Exhibit opens 6pm
URL:https://indianaheritagearts.org/event/opening-reception-for-the-47th-annual-exhibition-and-sale/
LOCATION:IN
CATEGORIES:2025 Exhibition,Artists,Events
END:VEVENT
BEGIN:VEVENT
DTSTART;TZID=America/Indiana/Indianapolis:20250519T000000
DTEND;TZID=America/Indiana/Indianapolis:20250519T235959
DTSTAMP:20260420T130501
CREATED:20250218T142159Z
LAST-MODIFIED:20250219T135210Z
UID:2330-1747612800-1747699199@indianaheritagearts.org
SUMMARY:Judging Day for the 47th Annual Exhibition & Sale
DESCRIPTION:
URL:https://indianaheritagearts.org/event/judging-day-for-the-47th-annual-exhibition-and-sale/
LOCATION:IN
CATEGORIES:2025 Exhibition,Artists
END:VEVENT
BEGIN:VEVENT
DTSTART;TZID=America/Indiana/Indianapolis:20250518T120000
DTEND;TZID=America/Indiana/Indianapolis:20250518T160000
DTSTAMP:20260420T130501
CREATED:20250218T142129Z
LAST-MODIFIED:20250219T135130Z
UID:2328-1747569600-1747584000@indianaheritagearts.org
SUMMARY:Final Drop Off Day
DESCRIPTION:Entered artists can deliver their paintings to the Stevens Art Studio in the Brown County Art Gallery from Noon – 4 pm\, no appointment needed.
URL:https://indianaheritagearts.org/event/final-drop-off-day/
LOCATION:IN
CATEGORIES:2025 Exhibition,Artists
END:VEVENT
BEGIN:VEVENT
DTSTART;TZID=America/Indiana/Indianapolis:20250514T100000
DTEND;TZID=America/Indiana/Indianapolis:20250514T160000
DTSTAMP:20260420T130501
CREATED:20250218T142049Z
LAST-MODIFIED:20250219T135031Z
UID:2326-1747216800-1747238400@indianaheritagearts.org
SUMMARY:Early Drop Off Day
DESCRIPTION:Entered artists can deliver their paintings to the Stevens Art Studio in the Brown County Art Gallery from 10 am – 4 pm\, no appointment needed.
URL:https://indianaheritagearts.org/event/early-drop-off-day-2/
LOCATION:IN
CATEGORIES:2025 Exhibition,Artists
END:VEVENT
BEGIN:VEVENT
DTSTART;TZID=America/Indiana/Indianapolis:20250510T100000
DTEND;TZID=America/Indiana/Indianapolis:20250510T160000
DTSTAMP:20260420T130501
CREATED:20250218T142012Z
LAST-MODIFIED:20250219T135000Z
UID:2324-1746871200-1746892800@indianaheritagearts.org
SUMMARY:Early Drop Off Day
DESCRIPTION:Entered artists can deliver their paintings to the Stevens Art Studio in the Brown County Art Gallery from 10 am – 4 pm\, no appointment needed.
URL:https://indianaheritagearts.org/event/early-drop-off-day/
LOCATION:IN
CATEGORIES:2025 Exhibition,Artists
END:VEVENT
BEGIN:VEVENT
DTSTART;TZID=America/Indiana/Indianapolis:20250505T000000
DTEND;TZID=America/Indiana/Indianapolis:20250505T235959
DTSTAMP:20260420T130501
CREATED:20250218T141922Z
LAST-MODIFIED:20260203T191721Z
UID:2322-1746403200-1746489599@indianaheritagearts.org
SUMMARY:Call for entries for the 47th Annual Exhibition & Sale closes
DESCRIPTION:All artist Call for Entry\, Donor / Sponsor\, and Catalog Advertiser submissions for the 47th Annual Exhibition are due.
URL:https://indianaheritagearts.org/event/call-for-entries-for-the-47th-annual-exhibition-and-sale-closes/
LOCATION:IN
CATEGORIES:2025 Exhibition,Artists
END:VEVENT
BEGIN:VEVENT
DTSTART;TZID=America/Indiana/Indianapolis:20250308T000000
DTEND;TZID=America/Indiana/Indianapolis:20250413T235959
DTSTAMP:20260420T130501
CREATED:20250218T141849Z
LAST-MODIFIED:20250218T143557Z
UID:2320-1741392000-1744588799@indianaheritagearts.org
SUMMARY:Mable B. Annis Opening
DESCRIPTION:
URL:https://indianaheritagearts.org/event/mable-b-annis-opening/
LOCATION:Brown County Art Gallery\, One Artist Drive\, Nashville\, IN\, 47448\, United States
CATEGORIES:Events
END:VEVENT
BEGIN:VEVENT
DTSTART;TZID=America/Indiana/Indianapolis:20250301T000000
DTEND;TZID=America/Indiana/Indianapolis:20250505T235900
DTSTAMP:20260420T130501
CREATED:20250218T141721Z
LAST-MODIFIED:20260203T191727Z
UID:2318-1740787200-1746489540@indianaheritagearts.org
SUMMARY:IHA online call for entries for the 47th Annual Exhibition & Sale
DESCRIPTION:All Indiana artists are invited to enter the 47th Annual IHA Exhibition & Sale. \n\n\n\nCall for Entries will be done by Email. No online entries. Click on “Enter the 2025 Annual Exhibition” Tab to download instructions. Watch for this to be live in early March.
URL:https://indianaheritagearts.org/event/iha-online-call-for-entries-for-the-47th-annual-exhibition-and-sale/
LOCATION:IN
CATEGORIES:2025 Exhibition,Artists
END:VEVENT
BEGIN:VEVENT
DTSTART;TZID=America/Indiana/Indianapolis:20250224T180000
DTEND;TZID=America/Indiana/Indianapolis:20250224T180000
DTSTAMP:20260420T130501
CREATED:20250203T140203Z
LAST-MODIFIED:20250203T140345Z
UID:2289-1740420000-1740420000@indianaheritagearts.org
SUMMARY:Indiana Heritage Arts Annual Meeting
DESCRIPTION:Our annual meeting will be held on Monday\, February 24 beginning at 6:00pm via Zoom. \n\n\n\nAll IHA Members are welcome to sign on and attend. \n\n\n\nZOOM Link: \n\n\n\nhttps://us06web.zoom.us/j/81247174456 \n\n\n\nMeeting ID: 812 4717 4456 \n\n\n\nPasscode: 517573 \n\n\n\nA regular board of directors meeting will follow
URL:https://indianaheritagearts.org/event/indiana-heritage-arts-annual-meeting/
LOCATION:IN
END:VEVENT
BEGIN:VEVENT
DTSTART;TZID=America/Indiana/Indianapolis:20240802T000000
DTEND;TZID=America/Indiana/Indianapolis:20240803T235959
DTSTAMP:20260420T130501
CREATED:20240711T131058Z
LAST-MODIFIED:20240711T131058Z
UID:2188-1722556800-1722729599@indianaheritagearts.org
SUMMARY:IHA West Baden Paint-Out
DESCRIPTION:Friday and Saturday\, August 2nd and 3rd at the West Baden Springs Resort. \n\n\n\nAttention Artists — the IHA West Baden Paint Out is back!\n\n\n\nArtists can paint the beautiful West Baden Springs Hotel and gardens and then sell their art in the hotel lobby on Saturday afternoon. \n\n\n\nNo registration fees\, just a spectacular place to paint and sell. Call the Brown County Art Gallery register — (812) 988-4609. \n\n\n\nDiscounted room reservations are available now\, call the hotel to book.
URL:https://indianaheritagearts.org/event/iha-west-baden-paint-out/
LOCATION:West Baden Springs Resort\, 8538 W Baden Ave\, West Baden Springs\, Indiana\, 47469\, United States
END:VEVENT
BEGIN:VEVENT
DTSTART;TZID=America/Indiana/Indianapolis:20240714T120000
DTEND;TZID=America/Indiana/Indianapolis:20240714T170000
DTSTAMP:20260420T130501
CREATED:20240709T204627Z
LAST-MODIFIED:20260304T164236Z
UID:2186-1720958400-1720976400@indianaheritagearts.org
SUMMARY:IHA pick up artists/buyers
DESCRIPTION:
URL:https://indianaheritagearts.org/event/iha-pick-up-artists-buyers/
LOCATION:IN
CATEGORIES:2024 Exhibition,Artists
END:VEVENT
BEGIN:VEVENT
DTSTART;TZID=America/Indiana/Indianapolis:20240713T000000
DTEND;TZID=America/Indiana/Indianapolis:20240713T235959
DTSTAMP:20260420T130501
CREATED:20240709T204553Z
LAST-MODIFIED:20240709T204554Z
UID:2184-1720828800-1720915199@indianaheritagearts.org
SUMMARY:IHA Exhibition Ends
DESCRIPTION:
URL:https://indianaheritagearts.org/event/iha-exhibition-ends/
LOCATION:IN
END:VEVENT
BEGIN:VEVENT
DTSTART;TZID=America/Indiana/Indianapolis:20240615T173000
DTEND;TZID=America/Indiana/Indianapolis:20240615T200000
DTSTAMP:20260420T130501
CREATED:20240430T113949Z
LAST-MODIFIED:20240430T113950Z
UID:1725-1718472600-1718481600@indianaheritagearts.org
SUMMARY:Painting Selma's Garden
DESCRIPTION:Experience Selma Steele’s gardens through the eyes – and works – of Indiana artists from 10 a.m. to 5 p.m.At 5:30 pm the “chance to buy” reception opens with food\, wine\, and tours of the home\, studio\, and gardens. There will be catering by Kevin Ault featuring food and wine.At 6:00 pm the staff from the Steele Site will present a history-based program in the Visitor Center and the paintings will go on display in the Steele Studio. A 30-percent commission from art sales is shared between the Steele Site\, Indiana Heritage Arts\, and the Brown County Art Gallery Foundation. After the reception\, the Paint Out art will be moved to the Brown County Art Gallery to join the annual IHA exhibit.Reception reservations are Required.45.00 per person (buy your admission at the IHA opening and get a $5 discount)10.00 each per artist and one artist guest.
URL:https://indianaheritagearts.org/event/painting-selmas-garden-3/
LOCATION:T. C. State Historic Site\, 4220 TC Steele Road\, Nashville\, IN\, 47448\, United States
END:VEVENT
BEGIN:VEVENT
DTSTART;TZID=America/Indiana/Indianapolis:20240608T000000
DTEND;TZID=America/Indiana/Indianapolis:20240713T235959
DTSTAMP:20260420T130501
CREATED:20240307T125243Z
LAST-MODIFIED:20240307T125244Z
UID:1702-1717804800-1720915199@indianaheritagearts.org
SUMMARY:46th Annual Exhibition and Sale
DESCRIPTION:46th Annual Exhibition & Sale of works by Indiana’s top artists.Exhibit open to the public during regular Gallery hours.
URL:https://indianaheritagearts.org/event/46th-annual-exhibition-and-sale/
LOCATION:IN
CATEGORIES:2024 Exhibition,Artists
END:VEVENT
BEGIN:VEVENT
DTSTART;TZID=America/Indiana/Indianapolis:20240607T180000
DTEND;TZID=America/Indiana/Indianapolis:20240607T200000
DTSTAMP:20260420T130501
CREATED:20240307T125428Z
LAST-MODIFIED:20260203T193142Z
UID:1700-1717783200-1717790400@indianaheritagearts.org
SUMMARY:46th Annual Exhibition Reception and Opening
DESCRIPTION:SAVE THE DATE! \n\n\n\nJoin us at the Opening Reception of the 46th Annual IHA Exhibition and Sale for the first chance to view and purchase works from this year’s show. Details to come.
URL:https://indianaheritagearts.org/event/46th-annual-exhibition-reception-and-opening/
LOCATION:IN
CATEGORIES:2024 Exhibition,Artists,Events
END:VEVENT
BEGIN:VEVENT
DTSTART;TZID=America/Indiana/Indianapolis:20240519T120000
DTEND;TZID=America/Indiana/Indianapolis:20240519T160000
DTSTAMP:20260420T130501
CREATED:20240307T123519Z
LAST-MODIFIED:20240307T123520Z
UID:1695-1716120000-1716134400@indianaheritagearts.org
SUMMARY:Final Artist Check-in Day
DESCRIPTION:Entered artists can deliver their paintings to the Stevens Art Studio in the Brown County Art Gallery from noon – 4 pm\, no appointment needed.
URL:https://indianaheritagearts.org/event/final-artist-check-in-day/
LOCATION:IN
CATEGORIES:2024 Exhibition,Artists
END:VEVENT
BEGIN:VEVENT
DTSTART;TZID=America/Indiana/Indianapolis:20240515T100000
DTEND;TZID=America/Indiana/Indianapolis:20240515T160000
DTSTAMP:20260420T130501
CREATED:20240307T123351Z
LAST-MODIFIED:20240307T123352Z
UID:1693-1715767200-1715788800@indianaheritagearts.org
SUMMARY:Artist Check-in Day 2
DESCRIPTION:Entered artists can deliver their paintings to the Stevens Art Studio in the Brown County Art Gallery from 10 am – 4 pm\, no appointment needed.
URL:https://indianaheritagearts.org/event/artist-check-in-day-2/
LOCATION:IN
CATEGORIES:2024 Exhibition,Artists
END:VEVENT
BEGIN:VEVENT
DTSTART;TZID=America/Indiana/Indianapolis:20240514T180000
DTEND;TZID=America/Indiana/Indianapolis:20240514T200000
DTSTAMP:20260420T130501
CREATED:20240507T195004Z
LAST-MODIFIED:20240507T195136Z
UID:1739-1715709600-1715716800@indianaheritagearts.org
SUMMARY:Special Screening of the Hoosier Masters
DESCRIPTION:Indiana Heritage Arts will be hosting a special screening of “Hoosier Masters\,” the IHA Permanent Collection video at the Brown County Public Library on Tuesday\, May 14 at 6 pm.Hear the inspirational stories of three IHA artists whose works are represented in the IHA Permanent Collection. Learn about the 46-year history of IHA\, which has evolved into one of Indiana’s most prestigious art organizations. This will be a special evening for all art lovers! \n\n\n\nGenerous hors d’oeuvres and wine will be served.RESERVATIONS REQUIRED. Seating is limited.Register by calling the Brown County Art Gallery at 812.988.4609Thanks to the Brown County Community Foundation and the Indiana Arts Commission for their generous support.
URL:https://indianaheritagearts.org/event/special-screening-of-the-hoosier-masters/
LOCATION:Brown County Public Library\, 205 Locust Lane\, Nashville\, IN\, 47448
CATEGORIES:Artists,Events
ATTACH;FMTTYPE=image/jpeg:https://indianaheritagearts.org/wp-content/uploads/2024/05/IHA-Library.jpg
END:VEVENT
BEGIN:VEVENT
DTSTART;TZID=America/Indiana/Indianapolis:20240511T100000
DTEND;TZID=America/Indiana/Indianapolis:20240511T160000
DTSTAMP:20260420T130501
CREATED:20240307T123228Z
LAST-MODIFIED:20240307T123229Z
UID:1691-1715421600-1715443200@indianaheritagearts.org
SUMMARY:Artist Check-in Day 1
DESCRIPTION:Entered artists can deliver their paintings to the Stevens Art Studio in the Brown County Art Gallery from 10 am – 4 pm\, no appointment needed.
URL:https://indianaheritagearts.org/event/artist-check-in-day-1/
LOCATION:IN
CATEGORIES:2024 Exhibition,Artists
END:VEVENT
BEGIN:VEVENT
DTSTART;TZID=America/Indiana/Indianapolis:20240505T080000
DTEND;TZID=America/Indiana/Indianapolis:20240505T170000
DTSTAMP:20260420T130501
CREATED:20240129T145232Z
LAST-MODIFIED:20260203T191749Z
UID:1620-1714896000-1714928400@indianaheritagearts.org
SUMMARY:2024 Call for Entry Closes
DESCRIPTION:All artist Call for Entry\, Donor / Sponsor\, and Catalog Advertiser submissions for the 46th Annual Exhibition are due.
URL:https://indianaheritagearts.org/event/2024-call-for-entry-closes/
LOCATION:IN
CATEGORIES:2024 Exhibition,Artists
END:VEVENT
BEGIN:VEVENT
DTSTART;TZID=America/Indiana/Indianapolis:20240305T080000
DTEND;TZID=America/Indiana/Indianapolis:20240305T170000
DTSTAMP:20260420T130501
CREATED:20240129T145011Z
LAST-MODIFIED:20260203T191753Z
UID:1616-1709625600-1709658000@indianaheritagearts.org
SUMMARY:2024 Call for Entry Opens
DESCRIPTION:All Indiana artists are invited to enter the 46th Annual IHA Exhibition & Sale.
URL:https://indianaheritagearts.org/event/2024-call-for-entry-opens/
LOCATION:IN
CATEGORIES:2024 Exhibition,Artists
END:VEVENT
BEGIN:VEVENT
DTSTART;TZID=America/Indiana/Indianapolis:20230709T000000
DTEND;TZID=America/Indiana/Indianapolis:20230709T235959
DTSTAMP:20260420T130501
CREATED:20221231T161017Z
LAST-MODIFIED:20221231T161017Z
UID:1354-1688860800-1688947199@indianaheritagearts.org
SUMMARY:Artwork Pick-up
DESCRIPTION:Pick-up of any unsold artwork begins. Please call the Gallery to schedule a day and time — 812.988.4609.
URL:https://indianaheritagearts.org/event/artwork-pick-up-2/
LOCATION:Brown County Art Gallery\, One Artist Drive\, Nashville\, IN\, 47448\, United States
CATEGORIES:2023 Exhibition,Artists
END:VEVENT
BEGIN:VEVENT
DTSTART;TZID=America/Indiana/Indianapolis:20230630T090000
DTEND;TZID=America/Indiana/Indianapolis:20230702T160000
DTSTAMP:20260420T130501
CREATED:20230301T152014Z
LAST-MODIFIED:20230314T192328Z
UID:1411-1688115600-1688313600@indianaheritagearts.org
SUMMARY:Drawing Bootcamp: A Complete Introductory Course with Alan Larkin
DESCRIPTION:Taught by Alan Larkin\, Professor Emeritus at Indiana University South Bend\, this three-day drawing workshop is a condensed version of the observational drawing class that Dr. Larkin taught for more than thirty years. Learn the basic skills needed to draw anything you see\, strategies to unify these skills\, and acceleration techniques to help you become faster without sacrificing accuracy\, along with exercises to strengthen your skills. Backup materials will be available to help you work on your own. A class for complete beginners\, but an eye-opening experience for seasoned artists as well. \n\n\n\nClass size is limited to 15 students\, so reserve your spot by calling the Brown County Art Gallery at 812-988-4609 or sending an email to brncagal@gmail.com
URL:https://indianaheritagearts.org/event/drawing-bootcamp-a-complete-introductory-course-with-alan-larkin/
LOCATION:Brown County Art Gallery\, One Artist Drive\, Nashville\, IN\, 47448\, United States
CATEGORIES:Events
ATTACH;FMTTYPE=image/png:https://indianaheritagearts.org/wp-content/uploads/2023/03/Untitled-design-10.png
END:VEVENT
BEGIN:VEVENT
DTSTART;TZID=America/Indiana/Indianapolis:20230617T173000
DTEND;TZID=America/Indiana/Indianapolis:20230617T200000
DTSTAMP:20260420T130501
CREATED:20221231T161748Z
LAST-MODIFIED:20230511T204744Z
UID:1357-1687023000-1687032000@indianaheritagearts.org
SUMMARY:Painting Selma's Garden
DESCRIPTION:Painting Selma’s Garden returns with an expanded Paint-Out and a special Garden History program before the reception.  \n\n\n\nExperience Selma Steele’s gardens through the eyes – and works – of Indiana artists from 10 a.m. to 5 p.m. Beginning at 5:00 p.m.\, join a party in the garden\, visit with artists who created artwork throughout the day\, and purchase their works during a Wet Paint Sale. This joint project will feature a select list of some of your favorite IHA artists!Join us for an open house featuring live music by Zelton and John Kay and food and wine by Kevin Ault Catering and Bonified Bites in the beautiful Visitor’s Center. Tour the gardens\, home\, and studio. Docents will be on hand to present the history. The paintings created by the IHA artists during the day will be on display and for sale in Steele’s studio.The IHA Exhibit at the Brown County Art Gallery will be open from 10 am until 8:30 pm and Steele Site guests can take a shuttle to and from the Gallery from 5-8:30 pm.Call the Gallery at 812-988-4609 to make your reservation.$40 per person\, $60 per couple.You can also register online at https://www.indianamuseum.org/pro…/painting-selmas-garden/ \n\n\n\n. \n\n\n\nPresented by TC Steele State Historic Site\, Brown County Art Gallery\, and Indiana Heritage Arts
URL:https://indianaheritagearts.org/event/painting-selmas-garden/
LOCATION:T. C. State Historic Site\, 4220 TC Steele Road\, Nashville\, IN\, 47448\, United States
CATEGORIES:Events
ATTACH;FMTTYPE=image/jpeg:https://indianaheritagearts.org/wp-content/uploads/2022/12/0099-030123-Painting-Selmas-Garden-slide-scaled.jpg
END:VEVENT
END:VCALENDAR