BEGIN:VCALENDAR
VERSION:2.0
PRODID:-//Indiana Heritage Arts - ECPv6.15.11//NONSGML v1.0//EN
CALSCALE:GREGORIAN
METHOD:PUBLISH
X-WR-CALNAME:Indiana Heritage Arts
X-ORIGINAL-URL:https://indianaheritagearts.org
X-WR-CALDESC:Events for Indiana Heritage Arts
REFRESH-INTERVAL;VALUE=DURATION:PT1H
X-Robots-Tag:noindex
X-PUBLISHED-TTL:PT1H
BEGIN:VTIMEZONE
TZID:America/Indiana/Indianapolis
BEGIN:DAYLIGHT
TZOFFSETFROM:-0500
TZOFFSETTO:-0400
TZNAME:EDT
DTSTART:20210314T070000
END:DAYLIGHT
BEGIN:STANDARD
TZOFFSETFROM:-0400
TZOFFSETTO:-0500
TZNAME:EST
DTSTART:20211107T060000
END:STANDARD
BEGIN:DAYLIGHT
TZOFFSETFROM:-0500
TZOFFSETTO:-0400
TZNAME:EDT
DTSTART:20220313T070000
END:DAYLIGHT
BEGIN:STANDARD
TZOFFSETFROM:-0400
TZOFFSETTO:-0500
TZNAME:EST
DTSTART:20221106T060000
END:STANDARD
BEGIN:DAYLIGHT
TZOFFSETFROM:-0500
TZOFFSETTO:-0400
TZNAME:EDT
DTSTART:20230312T070000
END:DAYLIGHT
BEGIN:STANDARD
TZOFFSETFROM:-0400
TZOFFSETTO:-0500
TZNAME:EST
DTSTART:20231105T060000
END:STANDARD
END:VTIMEZONE
BEGIN:VEVENT
DTSTART;TZID=America/Indiana/Indianapolis:20220618T100000
DTEND;TZID=America/Indiana/Indianapolis:20220618T170000
DTSTAMP:20260425T101035
CREATED:20220304T053208Z
LAST-MODIFIED:20220504T221318Z
UID:939-1655546400-1655571600@indianaheritagearts.org
SUMMARY:Painting Selma's Garden
DESCRIPTION:presented by IHA and T.C. Steele State Historic Site \nFollow the Artists to Brown County… the Place Where it All Began \nIndiana’s top artists are heading to T.C. Steele State Historic Site\, the place where it happened over 100 years ago. Watch the artists at work as they paint Selma’s Garden from 10 am–5 pm. At 5:30 pm the Site opens for an event filled Open House featuring food\, wine and self-guided tours of the gardens and House of the Singing Winds\, as well as a Wet Paint Art Sale in the Large Studio. \nReservations required · $45 per person (Participating artists are free)Call 812.988.4609 to reserveTransportation will be available from the Brown County Art Gallery to T.C. Steele State Historic Site\, 5-8:30 pm. The Gallery will be open until 8:30 pm this evening. \nThis is a partner event with the 44th Annual IHA Exhibition and Sale. Book an event package for just $60. Package includes admission to IHA Exhibition Opening Reception\, Painting Selma’s Garden\, one IHA non-artist membership and two free 2022 passes to T.C. Steele State Historic Site.
URL:https://indianaheritagearts.org/event/painting-selmas-garden-2/
LOCATION:T. C. State Historic Site\, 4220 TC Steele Road\, Nashville\, IN\, 47448\, United States
CATEGORIES:Events
ATTACH;FMTTYPE=image/jpeg:https://indianaheritagearts.org/wp-content/uploads/2022/03/0099-030122-Painting-Selmas-Garden-slide-1920x1080-1.jpg
END:VEVENT
BEGIN:VEVENT
DTSTART;TZID=America/Indiana/Indianapolis:20220611T100000
DTEND;TZID=America/Indiana/Indianapolis:20220709T170000
DTSTAMP:20260425T101035
CREATED:20220201T140110Z
LAST-MODIFIED:20220304T123635Z
UID:266-1654941600-1657386000@indianaheritagearts.org
SUMMARY:44th Annual Exhibition & Sale
DESCRIPTION:44th Annual Exhibition & Sale of works by Indiana’s top artists.\nExhibit open to the public during regular Gallery hours.
URL:https://indianaheritagearts.org/event/44th-annual-exhibition-sale/
LOCATION:Brown County Art Gallery\, One Artist Drive\, Nashville\, IN\, 47448\, United States
CATEGORIES:2022 Exhibition,Artists
ATTACH;FMTTYPE=image/jpeg:https://indianaheritagearts.org/wp-content/uploads/2022/02/0099-2022-Exhibition-graphics-1920x1080-1.jpg
END:VEVENT
BEGIN:VEVENT
DTSTART;TZID=America/Indiana/Indianapolis:20220610T173000
DTEND;TZID=America/Indiana/Indianapolis:20220610T200000
DTSTAMP:20260425T101035
CREATED:20220217T120814Z
LAST-MODIFIED:20260203T193148Z
UID:470-1654882200-1654891200@indianaheritagearts.org
SUMMARY:Opening Reception
DESCRIPTION:Opening reception for 44th Annual Exhibition and awards presentation. Guests can enjoy wine\, soft drinks and hearty appetizers.\n\nReservations required · $20 per person\nArtists\, sponsors and donors\, plus a guest\, may attend for free\nCall  812.988.4609 to reserve\n\nThis is a partner event with the Painting Selma’s Garden event. Book an event package for just $60. Package includes admission to IHA Exhibition Opening Reception\, admission to Painting Selma’s Garden reception\, one IHA non-artist membership and two free 2022 passes to T.C. Steele State Historic Site.
URL:https://indianaheritagearts.org/event/opening-reception/
LOCATION:Brown County Art Gallery\, One Artist Drive\, Nashville\, IN\, 47448\, United States
CATEGORIES:2022 Exhibition,Artists,Events
ATTACH;FMTTYPE=image/jpeg:https://indianaheritagearts.org/wp-content/uploads/2022/02/0099-2022-Exhibition-graphics-1920x1080-2.jpg
END:VEVENT
BEGIN:VEVENT
DTSTART;VALUE=DATE:20220610
DTEND;VALUE=DATE:20220611
DTSTAMP:20260425T101035
CREATED:20220217T120512Z
LAST-MODIFIED:20220217T121013Z
UID:468-1654819200-1654905599@indianaheritagearts.org
SUMMARY:Award Winners Announced
DESCRIPTION:Award Winners announced on social media and posted on website
URL:https://indianaheritagearts.org/event/award-winners-announced/
LOCATION:IN
CATEGORIES:2022 Exhibition,Artists
END:VEVENT
BEGIN:VEVENT
DTSTART;VALUE=DATE:20220606
DTEND;VALUE=DATE:20220607
DTSTAMP:20260425T101035
CREATED:20220217T120414Z
LAST-MODIFIED:20220217T234507Z
UID:466-1654473600-1654559999@indianaheritagearts.org
SUMMARY:Accepted Entrants Announced
DESCRIPTION:Artists juried into the show will be announced via social media and posted on the website
URL:https://indianaheritagearts.org/event/accepted-entrants-announced/
LOCATION:IN
CATEGORIES:2022 Exhibition,Artists
END:VEVENT
BEGIN:VEVENT
DTSTART;VALUE=DATE:20220523
DTEND;VALUE=DATE:20220524
DTSTAMP:20260425T101035
CREATED:20220217T120233Z
LAST-MODIFIED:20220217T120908Z
UID:464-1653264000-1653350399@indianaheritagearts.org
SUMMARY:Judging
DESCRIPTION:
URL:https://indianaheritagearts.org/event/judging/
LOCATION:IN
CATEGORIES:2022 Exhibition,Artists
END:VEVENT
BEGIN:VEVENT
DTSTART;TZID=America/Indiana/Indianapolis:20220522T120000
DTEND;TZID=America/Indiana/Indianapolis:20220522T160000
DTSTAMP:20260425T101035
CREATED:20220215T145535Z
LAST-MODIFIED:20221231T155512Z
UID:442-1653220800-1653235200@indianaheritagearts.org
SUMMARY:Final Open Drop-off Day
DESCRIPTION:Entered artists can deliver their paintings to the Stevens Art Studio in the Brown County Art Gallery from Noon – 4 pm\, no appointment needed
URL:https://indianaheritagearts.org/event/open-drop-off-day/
LOCATION:Brown County Art Gallery\, One Artist Drive\, Nashville\, IN\, 47448\, United States
CATEGORIES:2022 Exhibition,Artists
END:VEVENT
BEGIN:VEVENT
DTSTART;TZID=America/Indiana/Indianapolis:20220518T120000
DTEND;TZID=America/Indiana/Indianapolis:20220518T160000
DTSTAMP:20260425T101035
CREATED:20220407T205430Z
LAST-MODIFIED:20220407T205430Z
UID:1008-1652875200-1652889600@indianaheritagearts.org
SUMMARY:Open Drop-off Day 2
DESCRIPTION:Entered artists can deliver their paintings to the Stevens Art Studio in the Brown County Art Gallery from noon – 4 pm\, no appointment needed
URL:https://indianaheritagearts.org/event/open-drop-off-day-2/
LOCATION:Brown County Art Gallery\, One Artist Drive\, Nashville\, IN\, 47448\, United States
CATEGORIES:2022 Exhibition,Artists
END:VEVENT
BEGIN:VEVENT
DTSTART;TZID=America/Indiana/Indianapolis:20220514T120000
DTEND;TZID=America/Indiana/Indianapolis:20220514T160000
DTSTAMP:20260425T101035
CREATED:20220407T205351Z
LAST-MODIFIED:20221231T154944Z
UID:1006-1652529600-1652544000@indianaheritagearts.org
SUMMARY:Open Drop-off Day 1
DESCRIPTION:Entered artists can deliver their paintings to the Stevens Art Studio in the Brown County Art Gallery from noon – 4 pm\, no appointment needed
URL:https://indianaheritagearts.org/event/open-drop-off-day-1/
LOCATION:Brown County Art Gallery\, One Artist Drive\, Nashville\, IN\, 47448\, United States
CATEGORIES:2022 Exhibition,Artists
END:VEVENT
BEGIN:VEVENT
DTSTART;TZID=America/Indiana/Indianapolis:20220506T080000
DTEND;TZID=America/Indiana/Indianapolis:20220506T170000
DTSTAMP:20260425T101035
CREATED:20220217T120139Z
LAST-MODIFIED:20220428T135657Z
UID:462-1651824000-1651856400@indianaheritagearts.org
SUMMARY:Call for Entry Closes
DESCRIPTION:Extended Deadline!\nAll entries to the 44th Annual IHA Exhibition & Sale are due by 5 pm
URL:https://indianaheritagearts.org/event/call-for-entry-closes/
LOCATION:IN
CATEGORIES:2022 Exhibition,Artists
END:VEVENT
BEGIN:VEVENT
DTSTART;VALUE=DATE:20220306
DTEND;VALUE=DATE:20220307
DTSTAMP:20260425T101035
CREATED:20220217T115853Z
LAST-MODIFIED:20221231T154700Z
UID:460-1646524800-1646611199@indianaheritagearts.org
SUMMARY:Call for Entry Opens
DESCRIPTION:All Indiana artists are invited to enter the 44th Annual IHA Exhibition & Sale
URL:https://indianaheritagearts.org/event/call-for-entry-opens/
LOCATION:IN
CATEGORIES:2022 Exhibition,Artists
END:VEVENT
END:VCALENDAR