BEGIN:VCALENDAR
VERSION:2.0
PRODID:-//Indiana Heritage Arts - ECPv6.15.11//NONSGML v1.0//EN
CALSCALE:GREGORIAN
METHOD:PUBLISH
X-ORIGINAL-URL:https://indianaheritagearts.org
X-WR-CALDESC:Events for Indiana Heritage Arts
REFRESH-INTERVAL;VALUE=DURATION:PT1H
X-Robots-Tag:noindex
X-PUBLISHED-TTL:PT1H
BEGIN:VTIMEZONE
TZID:America/Indiana/Indianapolis
BEGIN:DAYLIGHT
TZOFFSETFROM:-0500
TZOFFSETTO:-0400
TZNAME:EDT
DTSTART:20250309T070000
END:DAYLIGHT
BEGIN:STANDARD
TZOFFSETFROM:-0400
TZOFFSETTO:-0500
TZNAME:EST
DTSTART:20251102T060000
END:STANDARD
BEGIN:DAYLIGHT
TZOFFSETFROM:-0500
TZOFFSETTO:-0400
TZNAME:EDT
DTSTART:20260308T070000
END:DAYLIGHT
BEGIN:STANDARD
TZOFFSETFROM:-0400
TZOFFSETTO:-0500
TZNAME:EST
DTSTART:20261101T060000
END:STANDARD
BEGIN:DAYLIGHT
TZOFFSETFROM:-0500
TZOFFSETTO:-0400
TZNAME:EDT
DTSTART:20270314T070000
END:DAYLIGHT
BEGIN:STANDARD
TZOFFSETFROM:-0400
TZOFFSETTO:-0500
TZNAME:EST
DTSTART:20271107T060000
END:STANDARD
END:VTIMEZONE
BEGIN:VEVENT
DTSTART;TZID=America/Indiana/Indianapolis:20260606T180000
DTEND;TZID=America/Indiana/Indianapolis:20260606T180000
DTSTAMP:20260424T063317
CREATED:20260203T193229Z
LAST-MODIFIED:20260223T133919Z
UID:2802-1780768800-1780768800@indianaheritagearts.org
SUMMARY:Opening reception for the 48th Annual Exhibition & Sale
DESCRIPTION:Doors open 5:30 Exhibit opens 6pm$20 per person
URL:https://indianaheritagearts.org/event/48th-annual-exhibition-opening-reception/
CATEGORIES:2026 Exhibition,Artists,Events
END:VEVENT
BEGIN:VEVENT
DTSTART;TZID=America/Indiana/Indianapolis:20260607T000000
DTEND;TZID=America/Indiana/Indianapolis:20260711T235959
DTSTAMP:20260424T063317
CREATED:20260203T193557Z
LAST-MODIFIED:20260203T193849Z
UID:2806-1780790400-1783814399@indianaheritagearts.org
SUMMARY:48th Annual Exhibition & Sale Opens to the Public
DESCRIPTION:Free admission
URL:https://indianaheritagearts.org/event/48th-annual-exhibition-and-sale/
CATEGORIES:2026 Exhibition,Artists,Events
ATTACH;FMTTYPE=image/webp:https://indianaheritagearts.org/wp-content/uploads/2026/02/2026-IHA-Exhibition-Event-Cover.webp
END:VEVENT
BEGIN:VEVENT
DTSTART;TZID=America/Indiana/Indianapolis:20260613T100000
DTEND;TZID=America/Indiana/Indianapolis:20260613T170000
DTSTAMP:20260424T063317
CREATED:20260224T201023Z
LAST-MODIFIED:20260224T201855Z
UID:2854-1781344800-1781370000@indianaheritagearts.org
SUMMARY:Painting Selma's Garden
DESCRIPTION:Join us at the T.C. Steele State Historic Site for a day of art\, inspiration\, and celebration! \n\n\n\n Date & Time: SaturdayJune 13th\, 202610:00 AM – 5:00 PM – Artists at work\, paintings available for purchase all day5:00 PM – Centennial Celebration Reception featuring the play “Selma and the Painter” in the Steele Studio \n\n\n\n Location:T.C. Steele State Historic Site\, Unionville\, Indiana \n\n\n\n Reception Tickets:$40 per person – reservations required. \n\n\n\n \n\n\n\nEvent Highlights: \n\n\n\n\nWatch Indiana’s top artists bring Selma’s garden to life on canvas.\n\n\n\nEnjoy a celebratory reception with live performances of the play\, refreshments\, and a chance to purchase artwork.\n\n\n\nExplore the historic House of the Singing Winds and gardens.\n\n\n\n\nThis is a perfect day to celebrate art\, history\, and community. Don’t miss it!
URL:https://indianaheritagearts.org/event/2026-painting-selmas-garden/
LOCATION:T. C. State Historic Site\, 4220 TC Steele Road\, Nashville\, IN\, 47448\, United States
CATEGORIES:Events
ATTACH;FMTTYPE=image/webp:https://indianaheritagearts.org/wp-content/uploads/2026/02/2026-Painting-Selmas-Garden-5-Facebook-Event-Cover-Play.webp
END:VEVENT
END:VCALENDAR